BEGIN:VCALENDAR
VERSION:2.0
PRODID:spatie/icalendar-generator
DESCRIPTION:Events from The Portland Photographic Society
X-WR-CALDESC:Events from The Portland Photographic Society
REFRESH-INTERVAL;VALUE=DURATION:PT1440M
X-PUBLISHED-TTL:PT1440M
BEGIN:VTIMEZONE
TZID:America/Los_Angeles
BEGIN:DAYLIGHT
DTSTART:20220313T020000Z
TZOFFSETFROM:-0800
TZOFFSETTO:-0700
END:DAYLIGHT
BEGIN:STANDARD
DTSTART:20221106T020000Z
TZOFFSETFROM:-0700
TZOFFSETTO:-0800
END:STANDARD
BEGIN:DAYLIGHT
DTSTART:20230312T020000Z
TZOFFSETFROM:-0800
TZOFFSETTO:-0700
END:DAYLIGHT
END:VTIMEZONE
BEGIN:VTIMEZONE
TZID:UTC
BEGIN:STANDARD
DTSTART:20250729T154959Z
TZOFFSETFROM:+0000
TZOFFSETTO:+0000
END:STANDARD
END:VTIMEZONE
BEGIN:VEVENT
UID:555-457
DTSTAMP:20260425T154959Z
SUMMARY:Projected Image Night - Theme: \"Macro\"
LOCATION:
ORGANIZER;CN=webmaster:MAILTO:info@pdxps.org
DTSTART;TZID=America/Los_Angeles:20221107T190000
DTEND;TZID=America/Los_Angeles:20221107T210000
X-ALT-DESC;FMTTYPE=TEXT/HTML:November 2022 – Macro A very close-up image 
 in which the size of the subject on the sensor or film is the same as or g
 reater than life-size. At Projected Image Night\, members view and discuss
  digital images projected on a screen. Members submit images in advance by
  email. Both images matching the monthly theme&amp;hellip\;
CATEGORIES:Image Sharing
URL;VALUE=URI:https://portlandphotographicsociety.org/mc-events/projected-i
 mage-night-theme-macro-2/
METHOD:PUBLISH
END:VEVENT
END:VCALENDAR