BEGIN:VCALENDAR
VERSION:2.0
PRODID:spatie/icalendar-generator
DESCRIPTION:Events from The Portland Photographic Society
X-WR-CALDESC:Events from The Portland Photographic Society
REFRESH-INTERVAL;VALUE=DURATION:PT1440M
X-PUBLISHED-TTL:PT1440M
BEGIN:VTIMEZONE
TZID:America/Los_Angeles
BEGIN:DAYLIGHT
DTSTART:20200308T020000Z
TZOFFSETFROM:-0800
TZOFFSETTO:-0700
END:DAYLIGHT
BEGIN:STANDARD
DTSTART:20201101T020000Z
TZOFFSETFROM:-0700
TZOFFSETTO:-0800
END:STANDARD
END:VTIMEZONE
BEGIN:VTIMEZONE
TZID:UTC
BEGIN:STANDARD
DTSTART:20250725T083854Z
TZOFFSETFROM:+0000
TZOFFSETTO:+0000
END:STANDARD
END:VTIMEZONE
BEGIN:VEVENT
UID:502-405
DTSTAMP:20260421T083854Z
SUMMARY:Class: Image Fusion
LOCATION:Zoom Online Meeting
ORGANIZER;CN=webmaster:MAILTO:info@pdxps.org
DTSTART;TZID=America/Los_Angeles:20200817T190000
DTEND;TZID=America/Los_Angeles:20200817T210000
X-ALT-DESC;FMTTYPE=TEXT/HTML:Image Fusion using Photoshop and Lightroom to 
 edit\, with the goal of taking two images and combining them into one. Thi
 s will be a Zoom meeting online\, using audio/video chat.  Zoom connectio
 n details will be sent out to our email list prior to the meeting. You can
  download the Zoom program for your computer here\,&amp;hellip\;
CATEGORIES:Educational
URL;VALUE=URI:https://portlandphotographicsociety.org/mc-events/class-image
 -fusion/
METHOD:PUBLISH
END:VEVENT
END:VCALENDAR